BEGIN:VCALENDAR
VERSION:2.0
PRODID:-//Cross &amp; Crown Baptist Church - ECPv6.15.20//NONSGML v1.0//EN
CALSCALE:GREGORIAN
METHOD:PUBLISH
X-ORIGINAL-URL:https://crossandcrownbaptist.com
X-WR-CALDESC:Events for Cross &amp; Crown Baptist Church
REFRESH-INTERVAL;VALUE=DURATION:PT1H
X-Robots-Tag:noindex
X-PUBLISHED-TTL:PT1H
BEGIN:VTIMEZONE
TZID:UTC
BEGIN:STANDARD
TZOFFSETFROM:+0000
TZOFFSETTO:+0000
TZNAME:UTC
DTSTART:20220101T000000
END:STANDARD
END:VTIMEZONE
BEGIN:VEVENT
DTSTART;VALUE=DATE:20230319
DTEND;VALUE=DATE:20230320
DTSTAMP:20260423T150841
CREATED:20230316T074706Z
LAST-MODIFIED:20230316T074706Z
UID:2014-1679184000-1679270399@crossandcrownbaptist.com
SUMMARY:Missions Sunday
DESCRIPTION:
URL:https://crossandcrownbaptist.com/event/missions-sunday/
LOCATION:FL
END:VEVENT
BEGIN:VEVENT
DTSTART;TZID=UTC:20230319T100000
DTEND;TZID=UTC:20230319T110000
DTSTAMP:20260423T150841
CREATED:20230316T071038Z
LAST-MODIFIED:20230316T071038Z
UID:2006-1679220000-1679223600@crossandcrownbaptist.com
SUMMARY:Sunday School
DESCRIPTION:
URL:https://crossandcrownbaptist.com/event/sunday-school/
LOCATION:FL
END:VEVENT
BEGIN:VEVENT
DTSTART;TZID=UTC:20230319T110000
DTEND;TZID=UTC:20230319T120000
DTSTAMP:20260423T150841
CREATED:20230316T071155Z
LAST-MODIFIED:20230316T071155Z
UID:2009-1679223600-1679227200@crossandcrownbaptist.com
SUMMARY:Sunday Morning Service
DESCRIPTION:
URL:https://crossandcrownbaptist.com/event/sunday-morning-service/
LOCATION:FL
END:VEVENT
BEGIN:VEVENT
DTSTART;TZID=UTC:20230319T120000
DTEND;TZID=UTC:20230319T140000
DTSTAMP:20260423T150841
CREATED:20230316T071434Z
LAST-MODIFIED:20230319T002203Z
UID:2011-1679227200-1679234400@crossandcrownbaptist.com
SUMMARY:Sunday Afternoon Lunch
DESCRIPTION:
URL:https://crossandcrownbaptist.com/event/sunday-afternoon-lunch/
LOCATION:FL
END:VEVENT
END:VCALENDAR