BEGIN:VCALENDAR
VERSION:2.0
PRODID:-//Cross &amp; Crown Baptist Church - ECPv6.15.20//NONSGML v1.0//EN
CALSCALE:GREGORIAN
METHOD:PUBLISH
X-WR-CALNAME:Cross &amp; Crown Baptist Church
X-ORIGINAL-URL:https://crossandcrownbaptist.com
X-WR-CALDESC:Events for Cross &amp; Crown Baptist Church
REFRESH-INTERVAL;VALUE=DURATION:PT1H
X-Robots-Tag:noindex
X-PUBLISHED-TTL:PT1H
BEGIN:VTIMEZONE
TZID:UTC
BEGIN:STANDARD
TZOFFSETFROM:+0000
TZOFFSETTO:+0000
TZNAME:UTC
DTSTART:20220101T000000
END:STANDARD
END:VTIMEZONE
BEGIN:VEVENT
DTSTART;VALUE=DATE:20230321
DTEND;VALUE=DATE:20230324
DTSTAMP:20260423T150444
CREATED:20230316T074936Z
LAST-MODIFIED:20230316T074936Z
UID:2020-1679356800-1679615999@crossandcrownbaptist.com
SUMMARY:PCC-Enrichment Retreat
DESCRIPTION:
URL:https://crossandcrownbaptist.com/event/pcc-enrichment-retreat/
LOCATION:FL
END:VEVENT
BEGIN:VEVENT
DTSTART;TZID=UTC:20230322T190000
DTEND;TZID=UTC:20230322T200000
DTSTAMP:20260423T150444
CREATED:20230316T074847Z
LAST-MODIFIED:20230316T074847Z
UID:2018-1679511600-1679515200@crossandcrownbaptist.com
SUMMARY:Kingdom Advance Force Prayer Meeting - Wednesday Night Service
DESCRIPTION:
URL:https://crossandcrownbaptist.com/event/kingdom-advance-force-prayer-meeting-wednesday-night-service/
LOCATION:FL
END:VEVENT
END:VCALENDAR