BEGIN:VCALENDAR
VERSION:2.0
PRODID:-//Cross &amp; Crown Baptist Church - ECPv6.15.20//NONSGML v1.0//EN
CALSCALE:GREGORIAN
METHOD:PUBLISH
X-ORIGINAL-URL:https://crossandcrownbaptist.com
X-WR-CALDESC:Events for Cross &amp; Crown Baptist Church
REFRESH-INTERVAL;VALUE=DURATION:PT1H
X-Robots-Tag:noindex
X-PUBLISHED-TTL:PT1H
BEGIN:VTIMEZONE
TZID:UTC
BEGIN:STANDARD
TZOFFSETFROM:+0000
TZOFFSETTO:+0000
TZNAME:UTC
DTSTART:20220101T000000
END:STANDARD
END:VTIMEZONE
BEGIN:VEVENT
DTSTART;VALUE=DATE:20230326
DTEND;VALUE=DATE:20230327
DTSTAMP:20260423T132121
CREATED:20230316T074738Z
LAST-MODIFIED:20230316T074738Z
UID:2016-1679788800-1679875199@crossandcrownbaptist.com
SUMMARY:Missions Sunday
DESCRIPTION:
URL:https://crossandcrownbaptist.com/event/missions-sunday-2/
LOCATION:FL
END:VEVENT
BEGIN:VEVENT
DTSTART;TZID=UTC:20230326T100000
DTEND;TZID=UTC:20230326T110000
DTSTAMP:20260423T132121
CREATED:20230316T075444Z
LAST-MODIFIED:20230316T075444Z
UID:2030-1679824800-1679828400@crossandcrownbaptist.com
SUMMARY:Sunday School
DESCRIPTION:
URL:https://crossandcrownbaptist.com/event/sunday-school-2/
LOCATION:FL
END:VEVENT
BEGIN:VEVENT
DTSTART;TZID=UTC:20230326T110000
DTEND;TZID=UTC:20230326T120000
DTSTAMP:20260423T132121
CREATED:20230316T075742Z
LAST-MODIFIED:20230316T075743Z
UID:2032-1679828400-1679832000@crossandcrownbaptist.com
SUMMARY:Sunday Morning Service
DESCRIPTION:
URL:https://crossandcrownbaptist.com/event/sunday-morning-service-2/
LOCATION:FL
END:VEVENT
BEGIN:VEVENT
DTSTART;TZID=UTC:20230326T120000
DTEND;TZID=UTC:20230326T140000
DTSTAMP:20260423T132121
CREATED:20230319T002226Z
LAST-MODIFIED:20230319T002226Z
UID:2452-1679832000-1679839200@crossandcrownbaptist.com
SUMMARY:Sunday Afternoon Lunch
DESCRIPTION:
URL:https://crossandcrownbaptist.com/event/sunday-afternoon-lunch-3/
LOCATION:FL
END:VEVENT
END:VCALENDAR