BEGIN:VCALENDAR
VERSION:2.0
PRODID:-//Cross &amp; Crown Baptist Church - ECPv6.15.20//NONSGML v1.0//EN
CALSCALE:GREGORIAN
METHOD:PUBLISH
X-ORIGINAL-URL:https://crossandcrownbaptist.com
X-WR-CALDESC:Events for Cross &amp; Crown Baptist Church
REFRESH-INTERVAL;VALUE=DURATION:PT1H
X-Robots-Tag:noindex
X-PUBLISHED-TTL:PT1H
BEGIN:VTIMEZONE
TZID:UTC
BEGIN:STANDARD
TZOFFSETFROM:+0000
TZOFFSETTO:+0000
TZNAME:UTC
DTSTART:20220101T000000
END:STANDARD
END:VTIMEZONE
BEGIN:VTIMEZONE
TZID:America/Chicago
BEGIN:DAYLIGHT
TZOFFSETFROM:-0600
TZOFFSETTO:-0500
TZNAME:CDT
DTSTART:20220313T080000
END:DAYLIGHT
BEGIN:STANDARD
TZOFFSETFROM:-0500
TZOFFSETTO:-0600
TZNAME:CST
DTSTART:20221106T070000
END:STANDARD
BEGIN:DAYLIGHT
TZOFFSETFROM:-0600
TZOFFSETTO:-0500
TZNAME:CDT
DTSTART:20230312T080000
END:DAYLIGHT
BEGIN:STANDARD
TZOFFSETFROM:-0500
TZOFFSETTO:-0600
TZNAME:CST
DTSTART:20231105T070000
END:STANDARD
BEGIN:DAYLIGHT
TZOFFSETFROM:-0600
TZOFFSETTO:-0500
TZNAME:CDT
DTSTART:20240310T080000
END:DAYLIGHT
BEGIN:STANDARD
TZOFFSETFROM:-0500
TZOFFSETTO:-0600
TZNAME:CST
DTSTART:20241103T070000
END:STANDARD
END:VTIMEZONE
BEGIN:VEVENT
DTSTART;TZID=UTC:20230416T100000
DTEND;TZID=UTC:20230416T110000
DTSTAMP:20260423T132115
CREATED:20230319T003051Z
LAST-MODIFIED:20230319T003051Z
UID:2463-1681639200-1681642800@crossandcrownbaptist.com
SUMMARY:Sunday School
DESCRIPTION:
URL:https://crossandcrownbaptist.com/event/sunday-school-5/
LOCATION:FL
END:VEVENT
BEGIN:VEVENT
DTSTART;TZID=UTC:20230416T110000
DTEND;TZID=UTC:20230416T120000
DTSTAMP:20260423T132115
CREATED:20230319T003137Z
LAST-MODIFIED:20230319T003137Z
UID:2464-1681642800-1681646400@crossandcrownbaptist.com
SUMMARY:Sunday Morning Service - Youth Boys / Auction Fundraiser
DESCRIPTION:
URL:https://crossandcrownbaptist.com/event/sunday-morning-service-youth-boys-auction-fundraiser/
LOCATION:FL
END:VEVENT
BEGIN:VEVENT
DTSTART;TZID=America/Chicago:20230416T110000
DTEND;TZID=America/Chicago:20230416T120000
DTSTAMP:20260423T132115
CREATED:20230412T230748Z
LAST-MODIFIED:20230412T230748Z
UID:3850-1681642800-1681646400@crossandcrownbaptist.com
SUMMARY:"In His Steps" Presented by Shining Light Players
DESCRIPTION:https://www.shininglightplayers.com/store/product/in-his-steps-performance-script-and-score
URL:https://crossandcrownbaptist.com/event/in-his-steps-presented-by-shining-light-players/
LOCATION:FL
END:VEVENT
BEGIN:VEVENT
DTSTART;TZID=UTC:20230416T120000
DTEND;TZID=UTC:20230416T130000
DTSTAMP:20260423T132115
CREATED:20230319T003036Z
LAST-MODIFIED:20230331T220801Z
UID:2462-1681646400-1681650000@crossandcrownbaptist.com
SUMMARY:Sunday Afternoon Lunch
DESCRIPTION:
URL:https://crossandcrownbaptist.com/event/sunday-afternoon-lunch-6/
LOCATION:FL
END:VEVENT
BEGIN:VEVENT
DTSTART;TZID=UTC:20230402T133000
DTEND;TZID=UTC:20230402T140000
DTSTAMP:20260423T132115
CREATED:20230331T220331Z
LAST-MODIFIED:20230331T220331Z
UID:3507-1680442200-1680444000@crossandcrownbaptist.com
SUMMARY:Sunday Afternoon Service
DESCRIPTION:
URL:https://crossandcrownbaptist.com/event/sunday-afternoon-service/
LOCATION:FL
END:VEVENT
END:VCALENDAR