BEGIN:VCALENDAR
VERSION:2.0
PRODID:-//Cross &amp; Crown Baptist Church - ECPv6.15.20//NONSGML v1.0//EN
CALSCALE:GREGORIAN
METHOD:PUBLISH
X-ORIGINAL-URL:https://crossandcrownbaptist.com
X-WR-CALDESC:Events for Cross &amp; Crown Baptist Church
REFRESH-INTERVAL;VALUE=DURATION:PT1H
X-Robots-Tag:noindex
X-PUBLISHED-TTL:PT1H
BEGIN:VTIMEZONE
TZID:UTC
BEGIN:STANDARD
TZOFFSETFROM:+0000
TZOFFSETTO:+0000
TZNAME:UTC
DTSTART:20220101T000000
END:STANDARD
END:VTIMEZONE
BEGIN:VEVENT
DTSTART;VALUE=DATE:20231027
DTEND;VALUE=DATE:20231030
DTSTAMP:20260423T164521
CREATED:20230401T221652Z
LAST-MODIFIED:20230401T221652Z
UID:3679-1698364800-1698623999@crossandcrownbaptist.com
SUMMARY:Fall Festival
DESCRIPTION:
URL:https://crossandcrownbaptist.com/event/fall-festival/
LOCATION:FL
END:VEVENT
END:VCALENDAR