BEGIN:VCALENDAR
VERSION:2.0
PRODID:-//Cross &amp; Crown Baptist Church - ECPv6.15.20//NONSGML v1.0//EN
CALSCALE:GREGORIAN
METHOD:PUBLISH
X-WR-CALNAME:Cross &amp; Crown Baptist Church
X-ORIGINAL-URL:https://crossandcrownbaptist.com
X-WR-CALDESC:Events for Cross &amp; Crown Baptist Church
REFRESH-INTERVAL;VALUE=DURATION:PT1H
X-Robots-Tag:noindex
X-PUBLISHED-TTL:PT1H
BEGIN:VTIMEZONE
TZID:UTC
BEGIN:STANDARD
TZOFFSETFROM:+0000
TZOFFSETTO:+0000
TZNAME:UTC
DTSTART:20220101T000000
END:STANDARD
END:VTIMEZONE
BEGIN:VEVENT
DTSTART;VALUE=DATE:20231122
DTEND;VALUE=DATE:20231123
DTSTAMP:20260423T182545
CREATED:20230401T222807Z
LAST-MODIFIED:20230401T222807Z
UID:3697-1700611200-1700697599@crossandcrownbaptist.com
SUMMARY:No Wednesday Night Service
DESCRIPTION:
URL:https://crossandcrownbaptist.com/event/no-wednesday-night-service/
LOCATION:FL
END:VEVENT
END:VCALENDAR