BEGIN:VCALENDAR
VERSION:2.0
PRODID:-//Cross &amp; Crown Baptist Church - ECPv6.15.20//NONSGML v1.0//EN
CALSCALE:GREGORIAN
METHOD:PUBLISH
X-WR-CALNAME:Cross &amp; Crown Baptist Church
X-ORIGINAL-URL:https://crossandcrownbaptist.com
X-WR-CALDESC:Events for Cross &amp; Crown Baptist Church
REFRESH-INTERVAL;VALUE=DURATION:PT1H
X-Robots-Tag:noindex
X-PUBLISHED-TTL:PT1H
BEGIN:VTIMEZONE
TZID:UTC
BEGIN:STANDARD
TZOFFSETFROM:+0000
TZOFFSETTO:+0000
TZNAME:UTC
DTSTART:20220101T000000
END:STANDARD
END:VTIMEZONE
BEGIN:VTIMEZONE
TZID:America/Chicago
BEGIN:DAYLIGHT
TZOFFSETFROM:-0600
TZOFFSETTO:-0500
TZNAME:CDT
DTSTART:20220313T080000
END:DAYLIGHT
BEGIN:STANDARD
TZOFFSETFROM:-0500
TZOFFSETTO:-0600
TZNAME:CST
DTSTART:20221106T070000
END:STANDARD
BEGIN:DAYLIGHT
TZOFFSETFROM:-0600
TZOFFSETTO:-0500
TZNAME:CDT
DTSTART:20230312T080000
END:DAYLIGHT
BEGIN:STANDARD
TZOFFSETFROM:-0500
TZOFFSETTO:-0600
TZNAME:CST
DTSTART:20231105T070000
END:STANDARD
BEGIN:DAYLIGHT
TZOFFSETFROM:-0600
TZOFFSETTO:-0500
TZNAME:CDT
DTSTART:20240310T080000
END:DAYLIGHT
BEGIN:STANDARD
TZOFFSETFROM:-0500
TZOFFSETTO:-0600
TZNAME:CST
DTSTART:20241103T070000
END:STANDARD
END:VTIMEZONE
BEGIN:VEVENT
DTSTART;TZID=UTC:20230401T100000
DTEND;TZID=UTC:20230401T120000
DTSTAMP:20260423T114401
CREATED:20230316T075917Z
LAST-MODIFIED:20230316T075917Z
UID:2034-1680343200-1680350400@crossandcrownbaptist.com
SUMMARY:KAF - Outreach
DESCRIPTION:
URL:https://crossandcrownbaptist.com/event/kaf-outreach/
LOCATION:FL
END:VEVENT
BEGIN:VEVENT
DTSTART;TZID=UTC:20230402T100000
DTEND;TZID=UTC:20230402T110000
DTSTAMP:20260423T114401
CREATED:20230319T002613Z
LAST-MODIFIED:20230319T002613Z
UID:2456-1680429600-1680433200@crossandcrownbaptist.com
SUMMARY:Sunday School
DESCRIPTION:
URL:https://crossandcrownbaptist.com/event/sunday-school-3/
LOCATION:FL
END:VEVENT
BEGIN:VEVENT
DTSTART;TZID=UTC:20230402T110000
DTEND;TZID=UTC:20230402T120000
DTSTAMP:20260423T114401
CREATED:20230319T001501Z
LAST-MODIFIED:20230319T001601Z
UID:2446-1680433200-1680436800@crossandcrownbaptist.com
SUMMARY:Sunday Morning Service - Camp Fundraiser
DESCRIPTION:
URL:https://crossandcrownbaptist.com/event/sunday-morning-service-camp-fundraiser/
LOCATION:FL
END:VEVENT
BEGIN:VEVENT
DTSTART;TZID=UTC:20230402T120000
DTEND;TZID=UTC:20230402T130000
DTSTAMP:20260423T114401
CREATED:20230319T002514Z
LAST-MODIFIED:20230331T220439Z
UID:2454-1680436800-1680440400@crossandcrownbaptist.com
SUMMARY:Sunday Afternoon Lunch
DESCRIPTION:
URL:https://crossandcrownbaptist.com/event/sunday-afternoon-lunch-4/
LOCATION:FL
END:VEVENT
BEGIN:VEVENT
DTSTART;TZID=UTC:20230402T133000
DTEND;TZID=UTC:20230402T140000
DTSTAMP:20260423T114401
CREATED:20230331T220331Z
LAST-MODIFIED:20230331T220331Z
UID:3507-1680442200-1680444000@crossandcrownbaptist.com
SUMMARY:Sunday Afternoon Service
DESCRIPTION:
URL:https://crossandcrownbaptist.com/event/sunday-afternoon-service/
LOCATION:FL
END:VEVENT
BEGIN:VEVENT
DTSTART;TZID=UTC:20230404T180000
DTEND;TZID=UTC:20230404T190000
DTSTAMP:20260423T114401
CREATED:20230401T193603Z
LAST-MODIFIED:20230401T193758Z
UID:3513-1680631200-1680634800@crossandcrownbaptist.com
SUMMARY:Ministry Leaders Meeting
DESCRIPTION:
URL:https://crossandcrownbaptist.com/event/ministry-leaders-meeting/
LOCATION:FL
END:VEVENT
BEGIN:VEVENT
DTSTART;TZID=UTC:20230405T190000
DTEND;TZID=UTC:20230405T200000
DTSTAMP:20260423T114401
CREATED:20230319T001049Z
LAST-MODIFIED:20230319T001049Z
UID:2438-1680721200-1680724800@crossandcrownbaptist.com
SUMMARY:Kingdom Advance Force Prayer Meeting - Wednesday Night Service
DESCRIPTION:
URL:https://crossandcrownbaptist.com/event/kingdom-advance-force-prayer-meeting-wednesday-night-service-3/
LOCATION:FL
END:VEVENT
BEGIN:VEVENT
DTSTART;VALUE=DATE:20230407
DTEND;VALUE=DATE:20230410
DTSTAMP:20260423T114401
CREATED:20230316T080632Z
LAST-MODIFIED:20230316T080632Z
UID:2037-1680825600-1681084799@crossandcrownbaptist.com
SUMMARY:Resurrection Weekend
DESCRIPTION:
URL:https://crossandcrownbaptist.com/event/resurrection-weekend/
LOCATION:FL
END:VEVENT
BEGIN:VEVENT
DTSTART;TZID=UTC:20230409T100000
DTEND;TZID=UTC:20230409T110000
DTSTAMP:20260423T114401
CREATED:20230319T002659Z
LAST-MODIFIED:20230319T002659Z
UID:2458-1681034400-1681038000@crossandcrownbaptist.com
SUMMARY:Sunday School
DESCRIPTION:
URL:https://crossandcrownbaptist.com/event/sunday-school-4/
LOCATION:FL
END:VEVENT
BEGIN:VEVENT
DTSTART;TZID=UTC:20230409T110000
DTEND;TZID=UTC:20230409T120000
DTSTAMP:20260423T114401
CREATED:20230319T001653Z
LAST-MODIFIED:20230319T001653Z
UID:2448-1681038000-1681041600@crossandcrownbaptist.com
SUMMARY:Sunday Morning Service - Pancake Breakfast
DESCRIPTION:
URL:https://crossandcrownbaptist.com/event/sunday-morning-service-pancake-breakfast/
LOCATION:FL
END:VEVENT
BEGIN:VEVENT
DTSTART;TZID=UTC:20230409T120000
DTEND;TZID=UTC:20230409T130000
DTSTAMP:20260423T114401
CREATED:20230319T002745Z
LAST-MODIFIED:20230331T220626Z
UID:2460-1681041600-1681045200@crossandcrownbaptist.com
SUMMARY:Sunday Afternoon Lunch
DESCRIPTION:
URL:https://crossandcrownbaptist.com/event/sunday-afternoon-lunch-5/
LOCATION:FL
END:VEVENT
BEGIN:VEVENT
DTSTART;TZID=UTC:20230402T133000
DTEND;TZID=UTC:20230402T140000
DTSTAMP:20260423T114401
CREATED:20230331T220331Z
LAST-MODIFIED:20230331T220331Z
UID:3507-1680442200-1680444000@crossandcrownbaptist.com
SUMMARY:Sunday Afternoon Service
DESCRIPTION:
URL:https://crossandcrownbaptist.com/event/sunday-afternoon-service/
LOCATION:FL
END:VEVENT
BEGIN:VEVENT
DTSTART;TZID=UTC:20230404T180000
DTEND;TZID=UTC:20230404T190000
DTSTAMP:20260423T114401
CREATED:20230401T193603Z
LAST-MODIFIED:20230401T193758Z
UID:3513-1680631200-1680634800@crossandcrownbaptist.com
SUMMARY:Ministry Leaders Meeting
DESCRIPTION:
URL:https://crossandcrownbaptist.com/event/ministry-leaders-meeting/
LOCATION:FL
END:VEVENT
BEGIN:VEVENT
DTSTART;TZID=UTC:20230412T190000
DTEND;TZID=UTC:20230412T200000
DTSTAMP:20260423T114401
CREATED:20230319T001256Z
LAST-MODIFIED:20230319T001256Z
UID:2440-1681326000-1681329600@crossandcrownbaptist.com
SUMMARY:Kingdom Advance Force Prayer Meeting - Wednesday Night Service
DESCRIPTION:
URL:https://crossandcrownbaptist.com/event/kingdom-advance-force-prayer-meeting-wednesday-night-service-4/
LOCATION:FL
END:VEVENT
BEGIN:VEVENT
DTSTART;TZID=UTC:20230413T110000
DTEND;TZID=UTC:20230413T120000
DTSTAMP:20260423T114401
CREATED:20230319T003937Z
LAST-MODIFIED:20230319T003937Z
UID:2484-1681383600-1681387200@crossandcrownbaptist.com
SUMMARY:Bible Study
DESCRIPTION:
URL:https://crossandcrownbaptist.com/event/bible-study-3/
LOCATION:FL
END:VEVENT
BEGIN:VEVENT
DTSTART;TZID=UTC:20230415T100000
DTEND;TZID=UTC:20230415T120000
DTSTAMP:20260423T114401
CREATED:20230319T000830Z
LAST-MODIFIED:20230319T000901Z
UID:2432-1681552800-1681560000@crossandcrownbaptist.com
SUMMARY:KAF - Outreach
DESCRIPTION:
URL:https://crossandcrownbaptist.com/event/kaf-outreach-2/
LOCATION:FL
END:VEVENT
BEGIN:VEVENT
DTSTART;TZID=UTC:20230416T100000
DTEND;TZID=UTC:20230416T110000
DTSTAMP:20260423T114401
CREATED:20230319T003051Z
LAST-MODIFIED:20230319T003051Z
UID:2463-1681639200-1681642800@crossandcrownbaptist.com
SUMMARY:Sunday School
DESCRIPTION:
URL:https://crossandcrownbaptist.com/event/sunday-school-5/
LOCATION:FL
END:VEVENT
BEGIN:VEVENT
DTSTART;TZID=UTC:20230416T110000
DTEND;TZID=UTC:20230416T120000
DTSTAMP:20260423T114401
CREATED:20230319T003137Z
LAST-MODIFIED:20230319T003137Z
UID:2464-1681642800-1681646400@crossandcrownbaptist.com
SUMMARY:Sunday Morning Service - Youth Boys / Auction Fundraiser
DESCRIPTION:
URL:https://crossandcrownbaptist.com/event/sunday-morning-service-youth-boys-auction-fundraiser/
LOCATION:FL
END:VEVENT
BEGIN:VEVENT
DTSTART;TZID=America/Chicago:20230416T110000
DTEND;TZID=America/Chicago:20230416T120000
DTSTAMP:20260423T114401
CREATED:20230412T230748Z
LAST-MODIFIED:20230412T230748Z
UID:3850-1681642800-1681646400@crossandcrownbaptist.com
SUMMARY:"In His Steps" Presented by Shining Light Players
DESCRIPTION:https://www.shininglightplayers.com/store/product/in-his-steps-performance-script-and-score
URL:https://crossandcrownbaptist.com/event/in-his-steps-presented-by-shining-light-players/
LOCATION:FL
END:VEVENT
BEGIN:VEVENT
DTSTART;TZID=UTC:20230416T120000
DTEND;TZID=UTC:20230416T130000
DTSTAMP:20260423T114401
CREATED:20230319T003036Z
LAST-MODIFIED:20230331T220801Z
UID:2462-1681646400-1681650000@crossandcrownbaptist.com
SUMMARY:Sunday Afternoon Lunch
DESCRIPTION:
URL:https://crossandcrownbaptist.com/event/sunday-afternoon-lunch-6/
LOCATION:FL
END:VEVENT
BEGIN:VEVENT
DTSTART;TZID=UTC:20230402T133000
DTEND;TZID=UTC:20230402T140000
DTSTAMP:20260423T114401
CREATED:20230331T220331Z
LAST-MODIFIED:20230331T220331Z
UID:3507-1680442200-1680444000@crossandcrownbaptist.com
SUMMARY:Sunday Afternoon Service
DESCRIPTION:
URL:https://crossandcrownbaptist.com/event/sunday-afternoon-service/
LOCATION:FL
END:VEVENT
BEGIN:VEVENT
DTSTART;TZID=UTC:20230404T180000
DTEND;TZID=UTC:20230404T190000
DTSTAMP:20260423T114401
CREATED:20230401T193603Z
LAST-MODIFIED:20230401T193758Z
UID:3513-1680631200-1680634800@crossandcrownbaptist.com
SUMMARY:Ministry Leaders Meeting
DESCRIPTION:
URL:https://crossandcrownbaptist.com/event/ministry-leaders-meeting/
LOCATION:FL
END:VEVENT
BEGIN:VEVENT
DTSTART;TZID=UTC:20230419T190000
DTEND;TZID=UTC:20230419T200000
DTSTAMP:20260423T114401
CREATED:20230319T001331Z
LAST-MODIFIED:20230401T193913Z
UID:2442-1681930800-1681934400@crossandcrownbaptist.com
SUMMARY:Kingdom Advance Force Prayer & Business Meeting - Wednesday Night Service
DESCRIPTION:
URL:https://crossandcrownbaptist.com/event/kingdom-advance-force-prayer-meeting-wednesday-night-service-5/
LOCATION:FL
END:VEVENT
BEGIN:VEVENT
DTSTART;VALUE=DATE:20230420
DTEND;VALUE=DATE:20230423
DTSTAMP:20260423T114401
CREATED:20230319T003811Z
LAST-MODIFIED:20230319T003811Z
UID:2482-1681948800-1682207999@crossandcrownbaptist.com
SUMMARY:Southland - Ladies Retreat
DESCRIPTION:
URL:https://crossandcrownbaptist.com/event/southland-ladies-retreat/
LOCATION:FL
END:VEVENT
BEGIN:VEVENT
DTSTART;TZID=UTC:20230423T100000
DTEND;TZID=UTC:20230423T110000
DTSTAMP:20260423T114401
CREATED:20230319T003321Z
LAST-MODIFIED:20230319T003321Z
UID:2470-1682244000-1682247600@crossandcrownbaptist.com
SUMMARY:Sunday School
DESCRIPTION:
URL:https://crossandcrownbaptist.com/event/sunday-school-6/
LOCATION:FL
END:VEVENT
BEGIN:VEVENT
DTSTART;TZID=UTC:20230423T110000
DTEND;TZID=UTC:20230423T120000
DTSTAMP:20260423T114401
CREATED:20230319T003304Z
LAST-MODIFIED:20230319T003304Z
UID:2469-1682247600-1682251200@crossandcrownbaptist.com
SUMMARY:Sunday Morning Service - PCH Spring into Action
DESCRIPTION:
URL:https://crossandcrownbaptist.com/event/sunday-morning-service-pch-spring-into-action/
LOCATION:FL
END:VEVENT
BEGIN:VEVENT
DTSTART;TZID=UTC:20230423T120000
DTEND;TZID=UTC:20230423T130000
DTSTAMP:20260423T114401
CREATED:20230319T003234Z
LAST-MODIFIED:20230331T220839Z
UID:2468-1682251200-1682254800@crossandcrownbaptist.com
SUMMARY:Sunday Afternoon Lunch
DESCRIPTION:
URL:https://crossandcrownbaptist.com/event/sunday-afternoon-lunch-7/
LOCATION:FL
END:VEVENT
BEGIN:VEVENT
DTSTART;TZID=UTC:20230402T133000
DTEND;TZID=UTC:20230402T140000
DTSTAMP:20260423T114401
CREATED:20230331T220331Z
LAST-MODIFIED:20230331T220331Z
UID:3507-1680442200-1680444000@crossandcrownbaptist.com
SUMMARY:Sunday Afternoon Service
DESCRIPTION:
URL:https://crossandcrownbaptist.com/event/sunday-afternoon-service/
LOCATION:FL
END:VEVENT
BEGIN:VEVENT
DTSTART;VALUE=DATE:20230425
DTEND;VALUE=DATE:20230426
DTSTAMP:20260423T114401
CREATED:20230401T194005Z
LAST-MODIFIED:20230401T194114Z
UID:3517-1682380800-1682467199@crossandcrownbaptist.com
SUMMARY:Pastor's Visitation
DESCRIPTION:
URL:https://crossandcrownbaptist.com/event/pastors-visitation/
LOCATION:FL
END:VEVENT
BEGIN:VEVENT
DTSTART;TZID=UTC:20230426T190000
DTEND;TZID=UTC:20230426T200000
DTSTAMP:20260423T114401
CREATED:20230319T001356Z
LAST-MODIFIED:20230319T001356Z
UID:2444-1682535600-1682539200@crossandcrownbaptist.com
SUMMARY:Kingdom Advance Force Prayer Meeting - Wednesday Night Service
DESCRIPTION:
URL:https://crossandcrownbaptist.com/event/kingdom-advance-force-prayer-meeting-wednesday-night-service-6/
LOCATION:FL
END:VEVENT
END:VCALENDAR