BEGIN:VCALENDAR
VERSION:2.0
PRODID:-//Cross &amp; Crown Baptist Church - ECPv6.15.20//NONSGML v1.0//EN
CALSCALE:GREGORIAN
METHOD:PUBLISH
X-ORIGINAL-URL:https://crossandcrownbaptist.com
X-WR-CALDESC:Events for Cross &amp; Crown Baptist Church
REFRESH-INTERVAL;VALUE=DURATION:PT1H
X-Robots-Tag:noindex
X-PUBLISHED-TTL:PT1H
BEGIN:VTIMEZONE
TZID:UTC
BEGIN:STANDARD
TZOFFSETFROM:+0000
TZOFFSETTO:+0000
TZNAME:UTC
DTSTART:20220101T000000
END:STANDARD
END:VTIMEZONE
BEGIN:VEVENT
DTSTART;TZID=UTC:20230701T100000
DTEND;TZID=UTC:20230701T110000
DTSTAMP:20260423T164520
CREATED:20230401T211917Z
LAST-MODIFIED:20230401T211917Z
UID:3591-1688205600-1688209200@crossandcrownbaptist.com
SUMMARY:KAF - Outreach
DESCRIPTION:
URL:https://crossandcrownbaptist.com/event/kaf-outreach-3/
LOCATION:FL
END:VEVENT
BEGIN:VEVENT
DTSTART;VALUE=DATE:20230702
DTEND;VALUE=DATE:20230703
DTSTAMP:20260423T164520
CREATED:20230401T210924Z
LAST-MODIFIED:20230401T210924Z
UID:3576-1688256000-1688342399@crossandcrownbaptist.com
SUMMARY:Patriotic Sunday
DESCRIPTION:
URL:https://crossandcrownbaptist.com/event/patriotic-sunday/
LOCATION:FL
END:VEVENT
BEGIN:VEVENT
DTSTART;TZID=UTC:20230430T100000
DTEND;TZID=UTC:20230430T110000
DTSTAMP:20260423T164520
CREATED:20230319T003511Z
LAST-MODIFIED:20230331T220149Z
UID:2474-1682848800-1682852400@crossandcrownbaptist.com
SUMMARY:Sunday School
DESCRIPTION:
URL:https://crossandcrownbaptist.com/event/sunday-afternoon-lunch-mens-lunch/
LOCATION:FL
END:VEVENT
BEGIN:VEVENT
DTSTART;TZID=UTC:20230430T110000
DTEND;TZID=UTC:20230430T120000
DTSTAMP:20260423T164520
CREATED:20230319T003428Z
LAST-MODIFIED:20230331T220116Z
UID:2476-1682852400-1682856000@crossandcrownbaptist.com
SUMMARY:Sunday Morning Service
DESCRIPTION:
URL:https://crossandcrownbaptist.com/event/sunday-morning-service-3/
LOCATION:FL
END:VEVENT
BEGIN:VEVENT
DTSTART;TZID=UTC:20230430T120000
DTEND;TZID=UTC:20230430T130000
DTSTAMP:20260423T164520
CREATED:20230319T003444Z
LAST-MODIFIED:20230331T220713Z
UID:2475-1682856000-1682859600@crossandcrownbaptist.com
SUMMARY:Sunday Afternoon Lunch
DESCRIPTION:
URL:https://crossandcrownbaptist.com/event/sunday-afternoon-lunch-8/
LOCATION:FL
END:VEVENT
BEGIN:VEVENT
DTSTART;TZID=UTC:20230402T133000
DTEND;TZID=UTC:20230402T140000
DTSTAMP:20260423T164520
CREATED:20230331T220331Z
LAST-MODIFIED:20230331T220331Z
UID:3507-1680442200-1680444000@crossandcrownbaptist.com
SUMMARY:Sunday Afternoon Service
DESCRIPTION:
URL:https://crossandcrownbaptist.com/event/sunday-afternoon-service/
LOCATION:FL
END:VEVENT
BEGIN:VEVENT
DTSTART;TZID=UTC:20230704T180000
DTEND;TZID=UTC:20230704T190000
DTSTAMP:20260423T164520
CREATED:20230401T211146Z
LAST-MODIFIED:20230401T211146Z
UID:3580-1688493600-1688497200@crossandcrownbaptist.com
SUMMARY:Ministry Leaders Meeting
DESCRIPTION:
URL:https://crossandcrownbaptist.com/event/ministry-leaders-meeting-4/
LOCATION:FL
END:VEVENT
BEGIN:VEVENT
DTSTART;TZID=UTC:20230705T080000
DTEND;TZID=UTC:20230705T170000
DTSTAMP:20260423T164520
CREATED:20230401T211442Z
LAST-MODIFIED:20230401T211442Z
UID:3584-1688544000-1688576400@crossandcrownbaptist.com
SUMMARY:Kingdom Advance Force Prayer Meeting – Wednesday Night Service
DESCRIPTION:
URL:https://crossandcrownbaptist.com/event/kingdom-advance-force-prayer-meeting-wednesday-night-service-9/
LOCATION:FL
END:VEVENT
BEGIN:VEVENT
DTSTART;TZID=UTC:20230701T100000
DTEND;TZID=UTC:20230701T110000
DTSTAMP:20260423T164520
CREATED:20230401T211917Z
LAST-MODIFIED:20230401T211917Z
UID:3591-1688205600-1688209200@crossandcrownbaptist.com
SUMMARY:KAF - Outreach
DESCRIPTION:
URL:https://crossandcrownbaptist.com/event/kaf-outreach-3/
LOCATION:FL
END:VEVENT
BEGIN:VEVENT
DTSTART;TZID=UTC:20230430T100000
DTEND;TZID=UTC:20230430T110000
DTSTAMP:20260423T164520
CREATED:20230319T003511Z
LAST-MODIFIED:20230331T220149Z
UID:2474-1682848800-1682852400@crossandcrownbaptist.com
SUMMARY:Sunday School
DESCRIPTION:
URL:https://crossandcrownbaptist.com/event/sunday-afternoon-lunch-mens-lunch/
LOCATION:FL
END:VEVENT
BEGIN:VEVENT
DTSTART;TZID=UTC:20230430T110000
DTEND;TZID=UTC:20230430T120000
DTSTAMP:20260423T164520
CREATED:20230319T003428Z
LAST-MODIFIED:20230331T220116Z
UID:2476-1682852400-1682856000@crossandcrownbaptist.com
SUMMARY:Sunday Morning Service
DESCRIPTION:
URL:https://crossandcrownbaptist.com/event/sunday-morning-service-3/
LOCATION:FL
END:VEVENT
BEGIN:VEVENT
DTSTART;TZID=UTC:20230430T120000
DTEND;TZID=UTC:20230430T130000
DTSTAMP:20260423T164520
CREATED:20230319T003444Z
LAST-MODIFIED:20230331T220713Z
UID:2475-1682856000-1682859600@crossandcrownbaptist.com
SUMMARY:Sunday Afternoon Lunch
DESCRIPTION:
URL:https://crossandcrownbaptist.com/event/sunday-afternoon-lunch-8/
LOCATION:FL
END:VEVENT
BEGIN:VEVENT
DTSTART;TZID=UTC:20230402T133000
DTEND;TZID=UTC:20230402T140000
DTSTAMP:20260423T164520
CREATED:20230331T220331Z
LAST-MODIFIED:20230331T220331Z
UID:3507-1680442200-1680444000@crossandcrownbaptist.com
SUMMARY:Sunday Afternoon Service
DESCRIPTION:
URL:https://crossandcrownbaptist.com/event/sunday-afternoon-service/
LOCATION:FL
END:VEVENT
BEGIN:VEVENT
DTSTART;TZID=UTC:20230712T190000
DTEND;TZID=UTC:20230712T200000
DTSTAMP:20260423T164520
CREATED:20230401T211535Z
LAST-MODIFIED:20230401T211638Z
UID:3586-1689188400-1689192000@crossandcrownbaptist.com
SUMMARY:Kingdom Advance Force Prayer & Business Meeting – Wednesday Night Service
DESCRIPTION:
URL:https://crossandcrownbaptist.com/event/kingdom-advance-force-prayer-business-meeting-wednesday-night-service-3/
LOCATION:FL
END:VEVENT
BEGIN:VEVENT
DTSTART;TZID=UTC:20230701T100000
DTEND;TZID=UTC:20230701T110000
DTSTAMP:20260423T164520
CREATED:20230401T211917Z
LAST-MODIFIED:20230401T211917Z
UID:3591-1688205600-1688209200@crossandcrownbaptist.com
SUMMARY:KAF - Outreach
DESCRIPTION:
URL:https://crossandcrownbaptist.com/event/kaf-outreach-3/
LOCATION:FL
END:VEVENT
BEGIN:VEVENT
DTSTART;TZID=UTC:20230430T100000
DTEND;TZID=UTC:20230430T110000
DTSTAMP:20260423T164520
CREATED:20230319T003511Z
LAST-MODIFIED:20230331T220149Z
UID:2474-1682848800-1682852400@crossandcrownbaptist.com
SUMMARY:Sunday School
DESCRIPTION:
URL:https://crossandcrownbaptist.com/event/sunday-afternoon-lunch-mens-lunch/
LOCATION:FL
END:VEVENT
BEGIN:VEVENT
DTSTART;TZID=UTC:20230430T110000
DTEND;TZID=UTC:20230430T120000
DTSTAMP:20260423T164520
CREATED:20230319T003428Z
LAST-MODIFIED:20230331T220116Z
UID:2476-1682852400-1682856000@crossandcrownbaptist.com
SUMMARY:Sunday Morning Service
DESCRIPTION:
URL:https://crossandcrownbaptist.com/event/sunday-morning-service-3/
LOCATION:FL
END:VEVENT
BEGIN:VEVENT
DTSTART;TZID=UTC:20230430T120000
DTEND;TZID=UTC:20230430T130000
DTSTAMP:20260423T164520
CREATED:20230319T003444Z
LAST-MODIFIED:20230331T220713Z
UID:2475-1682856000-1682859600@crossandcrownbaptist.com
SUMMARY:Sunday Afternoon Lunch
DESCRIPTION:
URL:https://crossandcrownbaptist.com/event/sunday-afternoon-lunch-8/
LOCATION:FL
END:VEVENT
BEGIN:VEVENT
DTSTART;TZID=UTC:20230402T133000
DTEND;TZID=UTC:20230402T140000
DTSTAMP:20260423T164520
CREATED:20230331T220331Z
LAST-MODIFIED:20230331T220331Z
UID:3507-1680442200-1680444000@crossandcrownbaptist.com
SUMMARY:Sunday Afternoon Service
DESCRIPTION:
URL:https://crossandcrownbaptist.com/event/sunday-afternoon-service/
LOCATION:FL
END:VEVENT
BEGIN:VEVENT
DTSTART;TZID=UTC:20230719T190000
DTEND;TZID=UTC:20230719T200000
DTSTAMP:20260423T164520
CREATED:20230401T211809Z
LAST-MODIFIED:20230401T211809Z
UID:3588-1689793200-1689796800@crossandcrownbaptist.com
SUMMARY:Kingdom Advance Force Prayer Meeting – Wednesday Night Service
DESCRIPTION:
URL:https://crossandcrownbaptist.com/event/kingdom-advance-force-prayer-meeting-wednesday-night-service-10/
LOCATION:FL
END:VEVENT
BEGIN:VEVENT
DTSTART;VALUE=DATE:20230721
DTEND;VALUE=DATE:20230722
DTSTAMP:20260423T164520
CREATED:20230401T212138Z
LAST-MODIFIED:20230401T212138Z
UID:3596-1689897600-1689983999@crossandcrownbaptist.com
SUMMARY:Coffee Fellowship
DESCRIPTION:
URL:https://crossandcrownbaptist.com/event/coffee-fellowship-3/
LOCATION:FL
END:VEVENT
BEGIN:VEVENT
DTSTART;TZID=UTC:20230701T100000
DTEND;TZID=UTC:20230701T110000
DTSTAMP:20260423T164520
CREATED:20230401T211917Z
LAST-MODIFIED:20230401T211917Z
UID:3591-1688205600-1688209200@crossandcrownbaptist.com
SUMMARY:KAF - Outreach
DESCRIPTION:
URL:https://crossandcrownbaptist.com/event/kaf-outreach-3/
LOCATION:FL
END:VEVENT
BEGIN:VEVENT
DTSTART;TZID=UTC:20230722T100000
DTEND;TZID=UTC:20230722T110000
DTSTAMP:20260423T164520
CREATED:20230401T212024Z
LAST-MODIFIED:20230401T212024Z
UID:3594-1690020000-1690023600@crossandcrownbaptist.com
SUMMARY:Youth Activity Biking at UWF
DESCRIPTION:
URL:https://crossandcrownbaptist.com/event/youth-activity-biking-at-uwf/
LOCATION:FL
END:VEVENT
BEGIN:VEVENT
DTSTART;TZID=UTC:20230430T100000
DTEND;TZID=UTC:20230430T110000
DTSTAMP:20260423T164520
CREATED:20230319T003511Z
LAST-MODIFIED:20230331T220149Z
UID:2474-1682848800-1682852400@crossandcrownbaptist.com
SUMMARY:Sunday School
DESCRIPTION:
URL:https://crossandcrownbaptist.com/event/sunday-afternoon-lunch-mens-lunch/
LOCATION:FL
END:VEVENT
BEGIN:VEVENT
DTSTART;TZID=UTC:20230430T110000
DTEND;TZID=UTC:20230430T120000
DTSTAMP:20260423T164520
CREATED:20230319T003428Z
LAST-MODIFIED:20230331T220116Z
UID:2476-1682852400-1682856000@crossandcrownbaptist.com
SUMMARY:Sunday Morning Service
DESCRIPTION:
URL:https://crossandcrownbaptist.com/event/sunday-morning-service-3/
LOCATION:FL
END:VEVENT
BEGIN:VEVENT
DTSTART;TZID=UTC:20230430T120000
DTEND;TZID=UTC:20230430T130000
DTSTAMP:20260423T164520
CREATED:20230319T003444Z
LAST-MODIFIED:20230331T220713Z
UID:2475-1682856000-1682859600@crossandcrownbaptist.com
SUMMARY:Sunday Afternoon Lunch
DESCRIPTION:
URL:https://crossandcrownbaptist.com/event/sunday-afternoon-lunch-8/
LOCATION:FL
END:VEVENT
BEGIN:VEVENT
DTSTART;TZID=UTC:20230402T133000
DTEND;TZID=UTC:20230402T140000
DTSTAMP:20260423T164520
CREATED:20230331T220331Z
LAST-MODIFIED:20230331T220331Z
UID:3507-1680442200-1680444000@crossandcrownbaptist.com
SUMMARY:Sunday Afternoon Service
DESCRIPTION:
URL:https://crossandcrownbaptist.com/event/sunday-afternoon-service/
LOCATION:FL
END:VEVENT
BEGIN:VEVENT
DTSTART;TZID=UTC:20230725T180000
DTEND;TZID=UTC:20230725T190000
DTSTAMP:20260423T164520
CREATED:20230401T211234Z
LAST-MODIFIED:20230401T211234Z
UID:3582-1690308000-1690311600@crossandcrownbaptist.com
SUMMARY:Pastor's Visitation
DESCRIPTION:
URL:https://crossandcrownbaptist.com/event/pastors-visitation-3/
LOCATION:FL
END:VEVENT
BEGIN:VEVENT
DTSTART;TZID=UTC:20230719T190000
DTEND;TZID=UTC:20230719T200000
DTSTAMP:20260423T164520
CREATED:20230401T211809Z
LAST-MODIFIED:20230401T211809Z
UID:3588-1689793200-1689796800@crossandcrownbaptist.com
SUMMARY:Kingdom Advance Force Prayer Meeting – Wednesday Night Service
DESCRIPTION:
URL:https://crossandcrownbaptist.com/event/kingdom-advance-force-prayer-meeting-wednesday-night-service-10/
LOCATION:FL
END:VEVENT
BEGIN:VEVENT
DTSTART;TZID=UTC:20230729T100000
DTEND;TZID=UTC:20230729T110000
DTSTAMP:20260423T164520
CREATED:20230401T212235Z
LAST-MODIFIED:20230401T212235Z
UID:3598-1690624800-1690628400@crossandcrownbaptist.com
SUMMARY:Youth Outreach
DESCRIPTION:
URL:https://crossandcrownbaptist.com/event/youth-outreach-2/
LOCATION:FL
END:VEVENT
END:VCALENDAR