BEGIN:VCALENDAR
VERSION:2.0
PRODID:-//Cross &amp; Crown Baptist Church - ECPv6.15.20//NONSGML v1.0//EN
CALSCALE:GREGORIAN
METHOD:PUBLISH
X-WR-CALNAME:Cross &amp; Crown Baptist Church
X-ORIGINAL-URL:https://crossandcrownbaptist.com
X-WR-CALDESC:Events for Cross &amp; Crown Baptist Church
REFRESH-INTERVAL;VALUE=DURATION:PT1H
X-Robots-Tag:noindex
X-PUBLISHED-TTL:PT1H
BEGIN:VTIMEZONE
TZID:UTC
BEGIN:STANDARD
TZOFFSETFROM:+0000
TZOFFSETTO:+0000
TZNAME:UTC
DTSTART:20220101T000000
END:STANDARD
END:VTIMEZONE
BEGIN:VEVENT
DTSTART;TZID=UTC:20230801T190000
DTEND;TZID=UTC:20230801T200000
DTSTAMP:20260423T182545
CREATED:20230401T213440Z
LAST-MODIFIED:20230401T213440Z
UID:3612-1690916400-1690920000@crossandcrownbaptist.com
SUMMARY:Ministry Leaders Meeting
DESCRIPTION:
URL:https://crossandcrownbaptist.com/event/ministry-leaders-meeting-5/
LOCATION:FL
END:VEVENT
BEGIN:VEVENT
DTSTART;TZID=UTC:20230719T190000
DTEND;TZID=UTC:20230719T200000
DTSTAMP:20260423T182545
CREATED:20230401T211809Z
LAST-MODIFIED:20230401T211809Z
UID:3588-1689793200-1689796800@crossandcrownbaptist.com
SUMMARY:Kingdom Advance Force Prayer Meeting – Wednesday Night Service
DESCRIPTION:
URL:https://crossandcrownbaptist.com/event/kingdom-advance-force-prayer-meeting-wednesday-night-service-10/
LOCATION:FL
END:VEVENT
BEGIN:VEVENT
DTSTART;VALUE=DATE:20230803
DTEND;VALUE=DATE:20230804
DTSTAMP:20260423T182545
CREATED:20230401T213220Z
LAST-MODIFIED:20230401T213220Z
UID:3607-1691020800-1691107199@crossandcrownbaptist.com
SUMMARY:Timeless Treasures
DESCRIPTION:
URL:https://crossandcrownbaptist.com/event/timeless-treasures/
LOCATION:FL
END:VEVENT
BEGIN:VEVENT
DTSTART;VALUE=DATE:20230805
DTEND;VALUE=DATE:20230806
DTSTAMP:20260423T182545
CREATED:20230401T213953Z
LAST-MODIFIED:20230401T213953Z
UID:3624-1691193600-1691279999@crossandcrownbaptist.com
SUMMARY:Youth Explosion
DESCRIPTION:
URL:https://crossandcrownbaptist.com/event/youth-explosion/
LOCATION:FL
END:VEVENT
BEGIN:VEVENT
DTSTART;TZID=UTC:20230430T100000
DTEND;TZID=UTC:20230430T110000
DTSTAMP:20260423T182545
CREATED:20230319T003511Z
LAST-MODIFIED:20230331T220149Z
UID:2474-1682848800-1682852400@crossandcrownbaptist.com
SUMMARY:Sunday School
DESCRIPTION:
URL:https://crossandcrownbaptist.com/event/sunday-afternoon-lunch-mens-lunch/
LOCATION:FL
END:VEVENT
BEGIN:VEVENT
DTSTART;TZID=UTC:20230430T110000
DTEND;TZID=UTC:20230430T120000
DTSTAMP:20260423T182545
CREATED:20230319T003428Z
LAST-MODIFIED:20230331T220116Z
UID:2476-1682852400-1682856000@crossandcrownbaptist.com
SUMMARY:Sunday Morning Service
DESCRIPTION:
URL:https://crossandcrownbaptist.com/event/sunday-morning-service-3/
LOCATION:FL
END:VEVENT
BEGIN:VEVENT
DTSTART;TZID=UTC:20230430T120000
DTEND;TZID=UTC:20230430T130000
DTSTAMP:20260423T182545
CREATED:20230319T003444Z
LAST-MODIFIED:20230331T220713Z
UID:2475-1682856000-1682859600@crossandcrownbaptist.com
SUMMARY:Sunday Afternoon Lunch
DESCRIPTION:
URL:https://crossandcrownbaptist.com/event/sunday-afternoon-lunch-8/
LOCATION:FL
END:VEVENT
BEGIN:VEVENT
DTSTART;TZID=UTC:20230402T133000
DTEND;TZID=UTC:20230402T140000
DTSTAMP:20260423T182545
CREATED:20230331T220331Z
LAST-MODIFIED:20230331T220331Z
UID:3507-1680442200-1680444000@crossandcrownbaptist.com
SUMMARY:Sunday Afternoon Service
DESCRIPTION:
URL:https://crossandcrownbaptist.com/event/sunday-afternoon-service/
LOCATION:FL
END:VEVENT
BEGIN:VEVENT
DTSTART;TZID=UTC:20230808T190000
DTEND;TZID=UTC:20230808T200000
DTSTAMP:20260423T182545
CREATED:20230401T213516Z
LAST-MODIFIED:20230401T213516Z
UID:3614-1691521200-1691524800@crossandcrownbaptist.com
SUMMARY:Trustee Meeting
DESCRIPTION:
URL:https://crossandcrownbaptist.com/event/trustee-meeting-2/
LOCATION:FL
END:VEVENT
BEGIN:VEVENT
DTSTART;TZID=UTC:20230719T190000
DTEND;TZID=UTC:20230719T200000
DTSTAMP:20260423T182545
CREATED:20230401T211809Z
LAST-MODIFIED:20230401T211809Z
UID:3588-1689793200-1689796800@crossandcrownbaptist.com
SUMMARY:Kingdom Advance Force Prayer Meeting – Wednesday Night Service
DESCRIPTION:
URL:https://crossandcrownbaptist.com/event/kingdom-advance-force-prayer-meeting-wednesday-night-service-10/
LOCATION:FL
END:VEVENT
BEGIN:VEVENT
DTSTART;TZID=UTC:20230810T100000
DTEND;TZID=UTC:20230810T110000
DTSTAMP:20260423T182545
CREATED:20230401T213311Z
LAST-MODIFIED:20230401T213311Z
UID:3609-1691661600-1691665200@crossandcrownbaptist.com
SUMMARY:Bible Study
DESCRIPTION:
URL:https://crossandcrownbaptist.com/event/bible-study-6/
LOCATION:FL
END:VEVENT
BEGIN:VEVENT
DTSTART;VALUE=DATE:20230812
DTEND;VALUE=DATE:20230813
DTSTAMP:20260423T182545
CREATED:20230401T214015Z
LAST-MODIFIED:20230401T215105Z
UID:3626-1691798400-1691884799@crossandcrownbaptist.com
SUMMARY:Tied Up in Prayer - Beka Mowers
DESCRIPTION:
URL:https://crossandcrownbaptist.com/event/tied-up-in-prayer-beka-mowers/
LOCATION:FL
END:VEVENT
BEGIN:VEVENT
DTSTART;VALUE=DATE:20230813
DTEND;VALUE=DATE:20230814
DTSTAMP:20260423T182545
CREATED:20230401T212425Z
LAST-MODIFIED:20230401T212425Z
UID:3600-1691884800-1691971199@crossandcrownbaptist.com
SUMMARY:Lord's Supper
DESCRIPTION:
URL:https://crossandcrownbaptist.com/event/lords-supper/
LOCATION:FL
END:VEVENT
BEGIN:VEVENT
DTSTART;TZID=UTC:20230430T100000
DTEND;TZID=UTC:20230430T110000
DTSTAMP:20260423T182545
CREATED:20230319T003511Z
LAST-MODIFIED:20230331T220149Z
UID:2474-1682848800-1682852400@crossandcrownbaptist.com
SUMMARY:Sunday School
DESCRIPTION:
URL:https://crossandcrownbaptist.com/event/sunday-afternoon-lunch-mens-lunch/
LOCATION:FL
END:VEVENT
BEGIN:VEVENT
DTSTART;TZID=UTC:20230430T110000
DTEND;TZID=UTC:20230430T120000
DTSTAMP:20260423T182545
CREATED:20230319T003428Z
LAST-MODIFIED:20230331T220116Z
UID:2476-1682852400-1682856000@crossandcrownbaptist.com
SUMMARY:Sunday Morning Service
DESCRIPTION:
URL:https://crossandcrownbaptist.com/event/sunday-morning-service-3/
LOCATION:FL
END:VEVENT
BEGIN:VEVENT
DTSTART;TZID=UTC:20230430T120000
DTEND;TZID=UTC:20230430T130000
DTSTAMP:20260423T182545
CREATED:20230319T003444Z
LAST-MODIFIED:20230331T220713Z
UID:2475-1682856000-1682859600@crossandcrownbaptist.com
SUMMARY:Sunday Afternoon Lunch
DESCRIPTION:
URL:https://crossandcrownbaptist.com/event/sunday-afternoon-lunch-8/
LOCATION:FL
END:VEVENT
BEGIN:VEVENT
DTSTART;TZID=UTC:20230402T133000
DTEND;TZID=UTC:20230402T140000
DTSTAMP:20260423T182545
CREATED:20230331T220331Z
LAST-MODIFIED:20230331T220331Z
UID:3507-1680442200-1680444000@crossandcrownbaptist.com
SUMMARY:Sunday Afternoon Service
DESCRIPTION:
URL:https://crossandcrownbaptist.com/event/sunday-afternoon-service/
LOCATION:FL
END:VEVENT
BEGIN:VEVENT
DTSTART;TZID=UTC:20230815T190000
DTEND;TZID=UTC:20230815T200000
DTSTAMP:20260423T182545
CREATED:20230401T213619Z
LAST-MODIFIED:20230401T213619Z
UID:3616-1692126000-1692129600@crossandcrownbaptist.com
SUMMARY:Ministry Leaders Meeting
DESCRIPTION:
URL:https://crossandcrownbaptist.com/event/ministry-leaders-meeting-6/
LOCATION:FL
END:VEVENT
BEGIN:VEVENT
DTSTART;TZID=UTC:20230719T190000
DTEND;TZID=UTC:20230719T200000
DTSTAMP:20260423T182545
CREATED:20230401T211809Z
LAST-MODIFIED:20230401T211809Z
UID:3588-1689793200-1689796800@crossandcrownbaptist.com
SUMMARY:Kingdom Advance Force Prayer Meeting – Wednesday Night Service
DESCRIPTION:
URL:https://crossandcrownbaptist.com/event/kingdom-advance-force-prayer-meeting-wednesday-night-service-10/
LOCATION:FL
END:VEVENT
BEGIN:VEVENT
DTSTART;TZID=UTC:20230810T100000
DTEND;TZID=UTC:20230810T110000
DTSTAMP:20260423T182545
CREATED:20230401T213311Z
LAST-MODIFIED:20230401T213311Z
UID:3609-1691661600-1691665200@crossandcrownbaptist.com
SUMMARY:Bible Study
DESCRIPTION:
URL:https://crossandcrownbaptist.com/event/bible-study-6/
LOCATION:FL
END:VEVENT
BEGIN:VEVENT
DTSTART;VALUE=DATE:20230818
DTEND;VALUE=DATE:20230819
DTSTAMP:20260423T182545
CREATED:20230401T213837Z
LAST-MODIFIED:20230401T213837Z
UID:3620-1692316800-1692403199@crossandcrownbaptist.com
SUMMARY:Coffee Fellowship
DESCRIPTION:
URL:https://crossandcrownbaptist.com/event/coffee-fellowship-4/
LOCATION:FL
END:VEVENT
BEGIN:VEVENT
DTSTART;VALUE=DATE:20230819
DTEND;VALUE=DATE:20230820
DTSTAMP:20260423T182545
CREATED:20230401T214229Z
LAST-MODIFIED:20230401T214229Z
UID:3628-1692403200-1692489599@crossandcrownbaptist.com
SUMMARY:PCC - Activity
DESCRIPTION:
URL:https://crossandcrownbaptist.com/event/pcc-activity/
LOCATION:FL
END:VEVENT
BEGIN:VEVENT
DTSTART;TZID=UTC:20230430T100000
DTEND;TZID=UTC:20230430T110000
DTSTAMP:20260423T182545
CREATED:20230319T003511Z
LAST-MODIFIED:20230331T220149Z
UID:2474-1682848800-1682852400@crossandcrownbaptist.com
SUMMARY:Sunday School
DESCRIPTION:
URL:https://crossandcrownbaptist.com/event/sunday-afternoon-lunch-mens-lunch/
LOCATION:FL
END:VEVENT
BEGIN:VEVENT
DTSTART;TZID=UTC:20230430T110000
DTEND;TZID=UTC:20230430T120000
DTSTAMP:20260423T182545
CREATED:20230319T003428Z
LAST-MODIFIED:20230331T220116Z
UID:2476-1682852400-1682856000@crossandcrownbaptist.com
SUMMARY:Sunday Morning Service
DESCRIPTION:
URL:https://crossandcrownbaptist.com/event/sunday-morning-service-3/
LOCATION:FL
END:VEVENT
BEGIN:VEVENT
DTSTART;TZID=UTC:20230430T120000
DTEND;TZID=UTC:20230430T130000
DTSTAMP:20260423T182545
CREATED:20230319T003444Z
LAST-MODIFIED:20230331T220713Z
UID:2475-1682856000-1682859600@crossandcrownbaptist.com
SUMMARY:Sunday Afternoon Lunch
DESCRIPTION:
URL:https://crossandcrownbaptist.com/event/sunday-afternoon-lunch-8/
LOCATION:FL
END:VEVENT
BEGIN:VEVENT
DTSTART;TZID=UTC:20230402T133000
DTEND;TZID=UTC:20230402T140000
DTSTAMP:20260423T182545
CREATED:20230331T220331Z
LAST-MODIFIED:20230331T220331Z
UID:3507-1680442200-1680444000@crossandcrownbaptist.com
SUMMARY:Sunday Afternoon Service
DESCRIPTION:
URL:https://crossandcrownbaptist.com/event/sunday-afternoon-service/
LOCATION:FL
END:VEVENT
BEGIN:VEVENT
DTSTART;TZID=UTC:20230823T190000
DTEND;TZID=UTC:20230823T200000
DTSTAMP:20260423T182545
CREATED:20230401T212533Z
LAST-MODIFIED:20230401T212533Z
UID:3602-1692817200-1692820800@crossandcrownbaptist.com
SUMMARY:Kingdom Advance Force Prayer & Business Meeting – Wednesday Night Service
DESCRIPTION:
URL:https://crossandcrownbaptist.com/event/kingdom-advance-force-prayer-business-meeting-wednesday-night-service-4/
LOCATION:FL
END:VEVENT
BEGIN:VEVENT
DTSTART;TZID=UTC:20230810T100000
DTEND;TZID=UTC:20230810T110000
DTSTAMP:20260423T182545
CREATED:20230401T213311Z
LAST-MODIFIED:20230401T213311Z
UID:3609-1691661600-1691665200@crossandcrownbaptist.com
SUMMARY:Bible Study
DESCRIPTION:
URL:https://crossandcrownbaptist.com/event/bible-study-6/
LOCATION:FL
END:VEVENT
BEGIN:VEVENT
DTSTART;TZID=UTC:20230825T180000
DTEND;TZID=UTC:20230825T190000
DTSTAMP:20260423T182545
CREATED:20230401T213925Z
LAST-MODIFIED:20230401T213925Z
UID:3622-1692986400-1692990000@crossandcrownbaptist.com
SUMMARY:MEP Meeting
DESCRIPTION:
URL:https://crossandcrownbaptist.com/event/mep-meeting-2/
LOCATION:FL
END:VEVENT
BEGIN:VEVENT
DTSTART;VALUE=DATE:20230826
DTEND;VALUE=DATE:20230827
DTSTAMP:20260423T182545
CREATED:20230401T214353Z
LAST-MODIFIED:20230401T214353Z
UID:3630-1693008000-1693094399@crossandcrownbaptist.com
SUMMARY:Bus Activity - Water Slide
DESCRIPTION:
URL:https://crossandcrownbaptist.com/event/bus-activity-water-slide/
LOCATION:FL
END:VEVENT
END:VCALENDAR