BEGIN:VCALENDAR
VERSION:2.0
PRODID:-//Cross &amp; Crown Baptist Church - ECPv6.15.20//NONSGML v1.0//EN
CALSCALE:GREGORIAN
METHOD:PUBLISH
X-WR-CALNAME:Cross &amp; Crown Baptist Church
X-ORIGINAL-URL:https://crossandcrownbaptist.com
X-WR-CALDESC:Events for Cross &amp; Crown Baptist Church
REFRESH-INTERVAL;VALUE=DURATION:PT1H
X-Robots-Tag:noindex
X-PUBLISHED-TTL:PT1H
BEGIN:VTIMEZONE
TZID:UTC
BEGIN:STANDARD
TZOFFSETFROM:+0000
TZOFFSETTO:+0000
TZNAME:UTC
DTSTART:20220101T000000
END:STANDARD
END:VTIMEZONE
BEGIN:VEVENT
DTSTART;TZID=UTC:20230430T100000
DTEND;TZID=UTC:20230430T110000
DTSTAMP:20260423T150553
CREATED:20230319T003511Z
LAST-MODIFIED:20230331T220149Z
UID:2474-1682848800-1682852400@crossandcrownbaptist.com
SUMMARY:Sunday School
DESCRIPTION:
URL:https://crossandcrownbaptist.com/event/sunday-afternoon-lunch-mens-lunch/
LOCATION:FL
END:VEVENT
BEGIN:VEVENT
DTSTART;TZID=UTC:20230430T110000
DTEND;TZID=UTC:20230430T120000
DTSTAMP:20260423T150553
CREATED:20230319T003428Z
LAST-MODIFIED:20230331T220116Z
UID:2476-1682852400-1682856000@crossandcrownbaptist.com
SUMMARY:Sunday Morning Service
DESCRIPTION:
URL:https://crossandcrownbaptist.com/event/sunday-morning-service-3/
LOCATION:FL
END:VEVENT
BEGIN:VEVENT
DTSTART;TZID=UTC:20230430T120000
DTEND;TZID=UTC:20230430T130000
DTSTAMP:20260423T150553
CREATED:20230319T003444Z
LAST-MODIFIED:20230331T220713Z
UID:2475-1682856000-1682859600@crossandcrownbaptist.com
SUMMARY:Sunday Afternoon Lunch
DESCRIPTION:
URL:https://crossandcrownbaptist.com/event/sunday-afternoon-lunch-8/
LOCATION:FL
END:VEVENT
BEGIN:VEVENT
DTSTART;TZID=UTC:20230402T133000
DTEND;TZID=UTC:20230402T140000
DTSTAMP:20260423T150553
CREATED:20230331T220331Z
LAST-MODIFIED:20230331T220331Z
UID:3507-1680442200-1680444000@crossandcrownbaptist.com
SUMMARY:Sunday Afternoon Service
DESCRIPTION:
URL:https://crossandcrownbaptist.com/event/sunday-afternoon-service/
LOCATION:FL
END:VEVENT
BEGIN:VEVENT
DTSTART;TZID=UTC:20231004T190000
DTEND;TZID=UTC:20231004T200000
DTSTAMP:20260423T150553
CREATED:20230401T220825Z
LAST-MODIFIED:20230401T220825Z
UID:3661-1696446000-1696449600@crossandcrownbaptist.com
SUMMARY:Kingdom Advance Force Prayer Meeting – Wednesday Night Service
DESCRIPTION:
URL:https://crossandcrownbaptist.com/event/kingdom-advance-force-prayer-meeting-wednesday-night-service-12/
LOCATION:FL
END:VEVENT
BEGIN:VEVENT
DTSTART;VALUE=DATE:20231005
DTEND;VALUE=DATE:20231006
DTSTAMP:20260423T150553
CREATED:20230401T221109Z
LAST-MODIFIED:20230401T221109Z
UID:3666-1696464000-1696550399@crossandcrownbaptist.com
SUMMARY:Timeless Treasures
DESCRIPTION:
URL:https://crossandcrownbaptist.com/event/timeless-treasures-2/
LOCATION:FL
END:VEVENT
BEGIN:VEVENT
DTSTART;VALUE=DATE:20231007
DTEND;VALUE=DATE:20231008
DTSTAMP:20260423T150553
CREATED:20230401T221446Z
LAST-MODIFIED:20230401T221446Z
UID:3673-1696636800-1696723199@crossandcrownbaptist.com
SUMMARY:YAMS - Pumpkin Patch
DESCRIPTION:
URL:https://crossandcrownbaptist.com/event/yams-pumpkin-patch/
LOCATION:FL
END:VEVENT
BEGIN:VEVENT
DTSTART;VALUE=DATE:20231008
DTEND;VALUE=DATE:20231009
DTSTAMP:20260423T150553
CREATED:20230401T224118Z
LAST-MODIFIED:20230401T224118Z
UID:3718-1696723200-1696809599@crossandcrownbaptist.com
SUMMARY:Church Anniversary Sunday - 43 Years!
DESCRIPTION:
URL:https://crossandcrownbaptist.com/event/church-anniversary-sunday-43-years/
LOCATION:FL
END:VEVENT
BEGIN:VEVENT
DTSTART;TZID=UTC:20230430T100000
DTEND;TZID=UTC:20230430T110000
DTSTAMP:20260423T150553
CREATED:20230319T003511Z
LAST-MODIFIED:20230331T220149Z
UID:2474-1682848800-1682852400@crossandcrownbaptist.com
SUMMARY:Sunday School
DESCRIPTION:
URL:https://crossandcrownbaptist.com/event/sunday-afternoon-lunch-mens-lunch/
LOCATION:FL
END:VEVENT
BEGIN:VEVENT
DTSTART;TZID=UTC:20230430T110000
DTEND;TZID=UTC:20230430T120000
DTSTAMP:20260423T150553
CREATED:20230319T003428Z
LAST-MODIFIED:20230331T220116Z
UID:2476-1682852400-1682856000@crossandcrownbaptist.com
SUMMARY:Sunday Morning Service
DESCRIPTION:
URL:https://crossandcrownbaptist.com/event/sunday-morning-service-3/
LOCATION:FL
END:VEVENT
BEGIN:VEVENT
DTSTART;TZID=UTC:20230430T120000
DTEND;TZID=UTC:20230430T130000
DTSTAMP:20260423T150553
CREATED:20230319T003444Z
LAST-MODIFIED:20230331T220713Z
UID:2475-1682856000-1682859600@crossandcrownbaptist.com
SUMMARY:Sunday Afternoon Lunch
DESCRIPTION:
URL:https://crossandcrownbaptist.com/event/sunday-afternoon-lunch-8/
LOCATION:FL
END:VEVENT
BEGIN:VEVENT
DTSTART;TZID=UTC:20230402T133000
DTEND;TZID=UTC:20230402T140000
DTSTAMP:20260423T150553
CREATED:20230331T220331Z
LAST-MODIFIED:20230331T220331Z
UID:3507-1680442200-1680444000@crossandcrownbaptist.com
SUMMARY:Sunday Afternoon Service
DESCRIPTION:
URL:https://crossandcrownbaptist.com/event/sunday-afternoon-service/
LOCATION:FL
END:VEVENT
BEGIN:VEVENT
DTSTART;TZID=UTC:20231010T180000
DTEND;TZID=UTC:20231010T190000
DTSTAMP:20260423T150553
CREATED:20230401T222316Z
LAST-MODIFIED:20230401T222316Z
UID:3689-1696960800-1696964400@crossandcrownbaptist.com
SUMMARY:Ministry Leaders Meeting
DESCRIPTION:
URL:https://crossandcrownbaptist.com/event/ministry-leaders-meeting-9/
LOCATION:FL
END:VEVENT
BEGIN:VEVENT
DTSTART;TZID=UTC:20231004T190000
DTEND;TZID=UTC:20231004T200000
DTSTAMP:20260423T150553
CREATED:20230401T220825Z
LAST-MODIFIED:20230401T220825Z
UID:3661-1696446000-1696449600@crossandcrownbaptist.com
SUMMARY:Kingdom Advance Force Prayer Meeting – Wednesday Night Service
DESCRIPTION:
URL:https://crossandcrownbaptist.com/event/kingdom-advance-force-prayer-meeting-wednesday-night-service-12/
LOCATION:FL
END:VEVENT
BEGIN:VEVENT
DTSTART;TZID=UTC:20231012T100000
DTEND;TZID=UTC:20231012T110000
DTSTAMP:20260423T150553
CREATED:20230401T221249Z
LAST-MODIFIED:20230401T221249Z
UID:3668-1697104800-1697108400@crossandcrownbaptist.com
SUMMARY:Bible Study
DESCRIPTION:
URL:https://crossandcrownbaptist.com/event/bible-study-8/
LOCATION:FL
END:VEVENT
BEGIN:VEVENT
DTSTART;VALUE=DATE:20231014
DTEND;VALUE=DATE:20231015
DTSTAMP:20260423T150553
CREATED:20230401T221516Z
LAST-MODIFIED:20230401T221516Z
UID:3675-1697241600-1697327999@crossandcrownbaptist.com
SUMMARY:Fall Excursion
DESCRIPTION:
URL:https://crossandcrownbaptist.com/event/fall-excursion/
LOCATION:FL
END:VEVENT
BEGIN:VEVENT
DTSTART;TZID=UTC:20230430T100000
DTEND;TZID=UTC:20230430T110000
DTSTAMP:20260423T150553
CREATED:20230319T003511Z
LAST-MODIFIED:20230331T220149Z
UID:2474-1682848800-1682852400@crossandcrownbaptist.com
SUMMARY:Sunday School
DESCRIPTION:
URL:https://crossandcrownbaptist.com/event/sunday-afternoon-lunch-mens-lunch/
LOCATION:FL
END:VEVENT
BEGIN:VEVENT
DTSTART;TZID=UTC:20230430T110000
DTEND;TZID=UTC:20230430T120000
DTSTAMP:20260423T150553
CREATED:20230319T003428Z
LAST-MODIFIED:20230331T220116Z
UID:2476-1682852400-1682856000@crossandcrownbaptist.com
SUMMARY:Sunday Morning Service
DESCRIPTION:
URL:https://crossandcrownbaptist.com/event/sunday-morning-service-3/
LOCATION:FL
END:VEVENT
BEGIN:VEVENT
DTSTART;TZID=UTC:20230430T120000
DTEND;TZID=UTC:20230430T130000
DTSTAMP:20260423T150553
CREATED:20230319T003444Z
LAST-MODIFIED:20230331T220713Z
UID:2475-1682856000-1682859600@crossandcrownbaptist.com
SUMMARY:Sunday Afternoon Lunch
DESCRIPTION:
URL:https://crossandcrownbaptist.com/event/sunday-afternoon-lunch-8/
LOCATION:FL
END:VEVENT
BEGIN:VEVENT
DTSTART;TZID=UTC:20230402T133000
DTEND;TZID=UTC:20230402T140000
DTSTAMP:20260423T150553
CREATED:20230331T220331Z
LAST-MODIFIED:20230331T220331Z
UID:3507-1680442200-1680444000@crossandcrownbaptist.com
SUMMARY:Sunday Afternoon Service
DESCRIPTION:
URL:https://crossandcrownbaptist.com/event/sunday-afternoon-service/
LOCATION:FL
END:VEVENT
BEGIN:VEVENT
DTSTART;TZID=UTC:20231018T190000
DTEND;TZID=UTC:20231018T200000
DTSTAMP:20260423T150553
CREATED:20230401T221021Z
LAST-MODIFIED:20230401T221021Z
UID:3664-1697655600-1697659200@crossandcrownbaptist.com
SUMMARY:Kingdom Advance Force Prayer & Business Meeting – Wednesday Night Service
DESCRIPTION:
URL:https://crossandcrownbaptist.com/event/kingdom-advance-force-prayer-meeting-wednesday-night-service-12-2/
LOCATION:FL
END:VEVENT
BEGIN:VEVENT
DTSTART;TZID=UTC:20231012T100000
DTEND;TZID=UTC:20231012T110000
DTSTAMP:20260423T150553
CREATED:20230401T221249Z
LAST-MODIFIED:20230401T221249Z
UID:3668-1697104800-1697108400@crossandcrownbaptist.com
SUMMARY:Bible Study
DESCRIPTION:
URL:https://crossandcrownbaptist.com/event/bible-study-8/
LOCATION:FL
END:VEVENT
BEGIN:VEVENT
DTSTART;VALUE=DATE:20231020
DTEND;VALUE=DATE:20231021
DTSTAMP:20260423T150553
CREATED:20230401T221353Z
LAST-MODIFIED:20230401T221353Z
UID:3671-1697760000-1697846399@crossandcrownbaptist.com
SUMMARY:Coffee Fellowship
DESCRIPTION:
URL:https://crossandcrownbaptist.com/event/coffee-fellowship-6/
LOCATION:FL
END:VEVENT
BEGIN:VEVENT
DTSTART;TZID=UTC:20231021T100000
DTEND;TZID=UTC:20231021T110000
DTSTAMP:20260423T150553
CREATED:20230401T221604Z
LAST-MODIFIED:20230401T221604Z
UID:3677-1697882400-1697886000@crossandcrownbaptist.com
SUMMARY:All Ministry Outreach
DESCRIPTION:
URL:https://crossandcrownbaptist.com/event/all-ministry-outreach/
LOCATION:FL
END:VEVENT
BEGIN:VEVENT
DTSTART;TZID=UTC:20230430T100000
DTEND;TZID=UTC:20230430T110000
DTSTAMP:20260423T150553
CREATED:20230319T003511Z
LAST-MODIFIED:20230331T220149Z
UID:2474-1682848800-1682852400@crossandcrownbaptist.com
SUMMARY:Sunday School
DESCRIPTION:
URL:https://crossandcrownbaptist.com/event/sunday-afternoon-lunch-mens-lunch/
LOCATION:FL
END:VEVENT
BEGIN:VEVENT
DTSTART;TZID=UTC:20230430T110000
DTEND;TZID=UTC:20230430T120000
DTSTAMP:20260423T150553
CREATED:20230319T003428Z
LAST-MODIFIED:20230331T220116Z
UID:2476-1682852400-1682856000@crossandcrownbaptist.com
SUMMARY:Sunday Morning Service
DESCRIPTION:
URL:https://crossandcrownbaptist.com/event/sunday-morning-service-3/
LOCATION:FL
END:VEVENT
BEGIN:VEVENT
DTSTART;TZID=UTC:20230430T120000
DTEND;TZID=UTC:20230430T130000
DTSTAMP:20260423T150553
CREATED:20230319T003444Z
LAST-MODIFIED:20230331T220713Z
UID:2475-1682856000-1682859600@crossandcrownbaptist.com
SUMMARY:Sunday Afternoon Lunch
DESCRIPTION:
URL:https://crossandcrownbaptist.com/event/sunday-afternoon-lunch-8/
LOCATION:FL
END:VEVENT
BEGIN:VEVENT
DTSTART;TZID=UTC:20230402T133000
DTEND;TZID=UTC:20230402T140000
DTSTAMP:20260423T150553
CREATED:20230331T220331Z
LAST-MODIFIED:20230331T220331Z
UID:3507-1680442200-1680444000@crossandcrownbaptist.com
SUMMARY:Sunday Afternoon Service
DESCRIPTION:
URL:https://crossandcrownbaptist.com/event/sunday-afternoon-service/
LOCATION:FL
END:VEVENT
BEGIN:VEVENT
DTSTART;TZID=UTC:20231024T180000
DTEND;TZID=UTC:20231024T190000
DTSTAMP:20260423T150553
CREATED:20230401T222404Z
LAST-MODIFIED:20230401T222404Z
UID:3691-1698170400-1698174000@crossandcrownbaptist.com
SUMMARY:Ministry Leaders Meeting
DESCRIPTION:
URL:https://crossandcrownbaptist.com/event/ministry-leaders-meeting-10/
LOCATION:FL
END:VEVENT
BEGIN:VEVENT
DTSTART;TZID=UTC:20231004T190000
DTEND;TZID=UTC:20231004T200000
DTSTAMP:20260423T150553
CREATED:20230401T220825Z
LAST-MODIFIED:20230401T220825Z
UID:3661-1696446000-1696449600@crossandcrownbaptist.com
SUMMARY:Kingdom Advance Force Prayer Meeting – Wednesday Night Service
DESCRIPTION:
URL:https://crossandcrownbaptist.com/event/kingdom-advance-force-prayer-meeting-wednesday-night-service-12/
LOCATION:FL
END:VEVENT
END:VCALENDAR